BEGIN:VCALENDAR
VERSION:2.0
METHOD:PUBLISH
PRODID:-//ddaysoftware.com//NONSGML DDay.iCal 1.0//EN
BEGIN:VTIMEZONE
TZID:Central Standard Time
BEGIN:STANDARD
DTSTART;VALUE=DATE:18000101
RRULE:FREQ=YEARLY;BYDAY=SU;BYHOUR=2;BYMINUTE=0;BYMONTH=10;BYMONTHDAY=25,26,
 27,28,29,30,31
TZOFFSETFROM:-0500
TZOFFSETTO:-0600
END:STANDARD
BEGIN:DAYLIGHT
DTSTART;VALUE=DATE:18000101
RRULE:FREQ=YEARLY;BYDAY=SU;BYHOUR=2;BYMINUTE=0;BYMONTH=4;BYMONTHDAY=1,2,3,4
 ,5,6,7
TZOFFSETFROM:-0600
TZOFFSETTO:-0500
END:DAYLIGHT
BEGIN:STANDARD
DTSTART;VALUE=DATE:20070101
RRULE:FREQ=YEARLY;BYDAY=SU;BYHOUR=2;BYMINUTE=0;BYMONTH=11;BYMONTHDAY=1,2,3,
 4,5,6,7
TZOFFSETFROM:-0500
TZOFFSETTO:-0600
END:STANDARD
BEGIN:DAYLIGHT
DTSTART;VALUE=DATE:20070101
RRULE:FREQ=YEARLY;BYDAY=SU;BYHOUR=2;BYMINUTE=0;BYMONTH=3;BYMONTHDAY=8,9,10,
 11,12,13,14
TZOFFSETFROM:-0600
TZOFFSETTO:-0500
END:DAYLIGHT
END:VTIMEZONE
BEGIN:VEVENT
DESCRIPTION:The classic tale of kindness to animals trots\, crawls and flie
 s onto the stage in Doctor Dolittle JR. All of the characters we've come t
 o love through the stories of Hugh Lofting and the magical movie musical a
 re given new life in the stage version. The musical tells the classic tale
  of a wacky\, but kind\, doctor who can talk to animals\, taking the audie
 nce on a journey from the small English village of Puddleby-on-the-Marsh t
 o the far corners of the world. When Doctor Dolittle attempts to help a se
 al named Sophie\, he’s wrongly accused of murder and stands trial before G
 eneral Bellowes. Once pronounced innocent\, Dolittle is free to continue w
 ith his search for the Great Pink Sea Snail — the oldest and wisest of the
  creatures on earth. Get tickets online.
DTEND;TZID=Central Standard Time:20260418T203000
DTSTAMP:20260419T155921
DTSTART;TZID=Central Standard Time:20260417T183000
LOCATION:UW Center for Civic Engagement\, Veninga Theater 625 Stewart Ave\,
  Wausau
SEQUENCE:0
SUMMARY:Dr Dolittle\, Jr.
UID:5ec9d8da-094d-4a9a-b00a-f8e36d83931d
URL:https://www.89q.org/dr-dolittle-jr-2026-04-17
END:VEVENT
END:VCALENDAR
