BEGIN:VCALENDAR
VERSION:2.0
METHOD:PUBLISH
PRODID:-//ddaysoftware.com//NONSGML DDay.iCal 1.0//EN
BEGIN:VTIMEZONE
TZID:Central Standard Time
BEGIN:STANDARD
DTSTART;VALUE=DATE:18000101
RRULE:FREQ=YEARLY;BYDAY=SU;BYHOUR=2;BYMINUTE=0;BYMONTH=10;BYMONTHDAY=25,26,
 27,28,29,30,31
TZOFFSETFROM:-0500
TZOFFSETTO:-0600
END:STANDARD
BEGIN:DAYLIGHT
DTSTART;VALUE=DATE:18000101
RRULE:FREQ=YEARLY;BYDAY=SU;BYHOUR=2;BYMINUTE=0;BYMONTH=4;BYMONTHDAY=1,2,3,4
 ,5,6,7
TZOFFSETFROM:-0600
TZOFFSETTO:-0500
END:DAYLIGHT
BEGIN:STANDARD
DTSTART;VALUE=DATE:20070101
RRULE:FREQ=YEARLY;BYDAY=SU;BYHOUR=2;BYMINUTE=0;BYMONTH=11;BYMONTHDAY=1,2,3,
 4,5,6,7
TZOFFSETFROM:-0500
TZOFFSETTO:-0600
END:STANDARD
BEGIN:DAYLIGHT
DTSTART;VALUE=DATE:20070101
RRULE:FREQ=YEARLY;BYDAY=SU;BYHOUR=2;BYMINUTE=0;BYMONTH=3;BYMONTHDAY=8,9,10,
 11,12,13,14
TZOFFSETFROM:-0600
TZOFFSETTO:-0500
END:DAYLIGHT
END:VTIMEZONE
BEGIN:VEVENT
DESCRIPTION:Come join us at and help form a united front against addiction 
 in Wisconsin on Saturday\, May 16\, 2026\, at the beautiful Whispering Oak
 s Concert Venue! Recovery Fest is a free\, family-friendly event dedicated
  to celebrating the strength and resilience of individuals in recovery\, t
 heir families\, friends\, and the entire community. Suggested donations we
 lcome at the gate and are available online. All day we will have artists p
 erform including Jorden Michael\, Howard Gripp\, Rodney Ashcraft\, Presenc
 e Music\, with headliner....none other than Ryan Stevenson brought to us b
 y Tim Robinson at Aligned Talent Agency. Jorden Michael - 1:00 pm Rodney A
 shcraft - 2:30 pm Howard Gripp - 4:00 pm Presence Music - 5:30 pm Ryan Ste
 venson - 7:00 pm Savor delicious smoked meat\, snacks\, water\, soda\, as 
 well as family-friendly games and activities for all ages\, including voll
 eyball and cornhole. A Safe\, Supportive Environment: A welcoming environm
 ent where everyone is encouraged to connect\, share experiences\, and buil
 d a stronger support network. Whether you are in recovery\, supporting a l
 oved one\, a healthcare professional\, or simply want to learn more about 
 the power of community and second chances\, this event is for you. Mark yo
 ur calendars\, bring your friends and family\, and let's celebrate life\, 
 joy\, and the journey of recovery together! Date: Saturday\, May 16\, 2026
  Time: Noon - 8:30PM Location: Whispering Oaks Concert Venue Donations wel
 come at the gate. Benefit for Made New Recovery differentministry.org
DTEND;TZID=Central Standard Time:20260516T203000
DTSTAMP:20260421T043847
DTSTART;TZID=Central Standard Time:20260516T120000
LOCATION:W8271 Mann Road\, Willard\, WI 54493
SEQUENCE:0
SUMMARY:Recovery Fest featuring Ryan Stevenson and Guest Artists
UID:a283caed-bcff-4e27-bfee-980a168cf466
URL:https://www.89q.org/recovery-fest-featuring-ryan-stevenson-and-guest-ar
 tists-2026-05-16
END:VEVENT
END:VCALENDAR
