BEGIN:VCALENDAR
VERSION:2.0
METHOD:PUBLISH
PRODID:-//ddaysoftware.com//NONSGML DDay.iCal 1.0//EN
BEGIN:VTIMEZONE
TZID:Central Standard Time
BEGIN:STANDARD
DTSTART;VALUE=DATE:18000101
RRULE:FREQ=YEARLY;BYDAY=SU;BYHOUR=2;BYMINUTE=0;BYMONTH=10;BYMONTHDAY=25,26,
 27,28,29,30,31
TZOFFSETFROM:-0500
TZOFFSETTO:-0600
END:STANDARD
BEGIN:DAYLIGHT
DTSTART;VALUE=DATE:18000101
RRULE:FREQ=YEARLY;BYDAY=SU;BYHOUR=2;BYMINUTE=0;BYMONTH=4;BYMONTHDAY=1,2,3,4
 ,5,6,7
TZOFFSETFROM:-0600
TZOFFSETTO:-0500
END:DAYLIGHT
BEGIN:STANDARD
DTSTART;VALUE=DATE:20070101
RRULE:FREQ=YEARLY;BYDAY=SU;BYHOUR=2;BYMINUTE=0;BYMONTH=11;BYMONTHDAY=1,2,3,
 4,5,6,7
TZOFFSETFROM:-0500
TZOFFSETTO:-0600
END:STANDARD
BEGIN:DAYLIGHT
DTSTART;VALUE=DATE:20070101
RRULE:FREQ=YEARLY;BYDAY=SU;BYHOUR=2;BYMINUTE=0;BYMONTH=3;BYMONTHDAY=8,9,10,
 11,12,13,14
TZOFFSETFROM:-0600
TZOFFSETTO:-0500
END:DAYLIGHT
END:VTIMEZONE
BEGIN:VEVENT
DESCRIPTION:Ignite is an event designed to help men confront shame\, break 
 free from mediocrity\, and step into the God-given leadership role they we
 re created for — in their homes\, churches\, businesses\, and communities.
  Join us Friday June 12th from 6pm-10pm as we connect with other men over 
 a steak dinner\, fire\, a powerful message and more. Camp out under the st
 ars in your own tent or small camper (not required) and on Saturday enjoy 
 breakfast and then a powerful day full of growth and transformation. Satur
 day times are from 6am-5pm. Cost is $150 per person use code: 89Q for $50 
 off Tickets Online at nr.church/ignite
DTEND;TZID=Central Standard Time:20260613T170000
DTSTAMP:20260422T035648
DTSTART;TZID=Central Standard Time:20260612T060000
LOCATION:Marawood Sand and Gravel Pit M6592 Pelsdorf Ave. Granton
SEQUENCE:0
SUMMARY:IGNITE
UID:12700f99-b6da-4764-b5cd-0fd9799726ad
URL:https://www.89q.org/ignite-2026-06-12
END:VEVENT
END:VCALENDAR
