BEGIN:VCALENDAR
VERSION:2.0
METHOD:PUBLISH
PRODID:-//ddaysoftware.com//NONSGML DDay.iCal 1.0//EN
BEGIN:VTIMEZONE
TZID:Central Standard Time
BEGIN:STANDARD
DTSTART;VALUE=DATE:18000101
RRULE:FREQ=YEARLY;BYDAY=SU;BYHOUR=2;BYMINUTE=0;BYMONTH=10;BYMONTHDAY=25,26,
 27,28,29,30,31
TZOFFSETFROM:-0500
TZOFFSETTO:-0600
END:STANDARD
BEGIN:DAYLIGHT
DTSTART;VALUE=DATE:18000101
RRULE:FREQ=YEARLY;BYDAY=SU;BYHOUR=2;BYMINUTE=0;BYMONTH=4;BYMONTHDAY=1,2,3,4
 ,5,6,7
TZOFFSETFROM:-0600
TZOFFSETTO:-0500
END:DAYLIGHT
BEGIN:STANDARD
DTSTART;VALUE=DATE:20070101
RRULE:FREQ=YEARLY;BYDAY=SU;BYHOUR=2;BYMINUTE=0;BYMONTH=11;BYMONTHDAY=1,2,3,
 4,5,6,7
TZOFFSETFROM:-0500
TZOFFSETTO:-0600
END:STANDARD
BEGIN:DAYLIGHT
DTSTART;VALUE=DATE:20070101
RRULE:FREQ=YEARLY;BYDAY=SU;BYHOUR=2;BYMINUTE=0;BYMONTH=3;BYMONTHDAY=8,9,10,
 11,12,13,14
TZOFFSETFROM:-0600
TZOFFSETTO:-0500
END:DAYLIGHT
END:VTIMEZONE
BEGIN:VEVENT
DESCRIPTION:Join us for family fun at Holy Name of Jesus Parish! Activities
  include Bingo\, Cakewalk\, Cash Raffle\, Special Raffle\, Kids Games\, Gr
 eat Food\, Vendor/Craft Fair\, Breakfast\, and Cheese Curds! Live music by
  Local Heroes Band\, Caleb &amp\; Emily\, Mike Maher\, and Hyde!
DTEND;TZID=Central Standard Time:20260606T223000
DTSTAMP:20260421T153502
DTSTART;TZID=Central Standard Time:20260606T073000
LOCATION:1104 S 9th Ave\, Wausau\, WI 54401
SEQUENCE:0
SUMMARY:Holy Name of Jesus Parish Summer Fun
UID:0f5bc0ff-8c94-4693-acb9-3a57da848dea
URL:https://www.89q.org/holy-name-of-jesus-parish-summer-fun-2026-06-06
END:VEVENT
END:VCALENDAR
